{
 "currentVersion": 11.5,
 "cimVersion": "3.5.0",
 "serviceDescription": "BRO EP (Exploration & Production)",
 "mapName": "ep",
 "description": "BRO EP (Exploration & Production)",
 "copyrightText": "",
 "supportsDynamicLayers": true,
 "layers": [
  {
   "id": 0,
   "name": "broEpc",
   "parentLayerId": -1,
   "defaultVisibility": true,
   "subLayerIds": [
    1,
    2,
    3
   ],
   "minScale": 0,
   "maxScale": 0,
   "type": "Group Layer",
   "supportsDynamicLegends": false
  },
  {
   "id": 1,
   "name": "broEpcSc",
   "parentLayerId": 0,
   "defaultVisibility": true,
   "subLayerIds": null,
   "minScale": 0,
   "maxScale": 0,
   "type": "Feature Layer",
   "geometryType": "esriGeometryPolygon",
   "supportsDynamicLegends": true
  },
  {
   "id": 2,
   "name": "broEpcBh",
   "parentLayerId": 0,
   "defaultVisibility": true,
   "subLayerIds": null,
   "minScale": 0,
   "maxScale": 0,
   "type": "Feature Layer",
   "geometryType": "esriGeometryPoint",
   "supportsDynamicLegends": true
  },
  {
   "id": 3,
   "name": "broEpcMs",
   "parentLayerId": 0,
   "defaultVisibility": true,
   "subLayerIds": null,
   "minScale": 0,
   "maxScale": 0,
   "type": "Feature Layer",
   "geometryType": "esriGeometryPolygon",
   "supportsDynamicLegends": true
  },
  {
   "id": 4,
   "name": "broEpl",
   "parentLayerId": -1,
   "defaultVisibility": true,
   "subLayerIds": null,
   "minScale": 0,
   "maxScale": 0,
   "type": "Feature Layer",
   "geometryType": "esriGeometryPolygon",
   "supportsDynamicLegends": true
  }
 ],
 "tables": [],
 "spatialReference": {
  "wkid": 28992,
  "latestWkid": 28992,
  "xyTolerance": 0.001,
  "zTolerance": 0.001,
  "mTolerance": 0.001,
  "falseX": -30515500,
  "falseY": -30279500,
  "xyUnits": 10000,
  "falseZ": -100000,
  "zUnits": 10000,
  "falseM": -100000,
  "mUnits": 10000
 },
 "singleFusedMapCache": true,
 "tileInfo": {
  "rows": 256,
  "cols": 256,
  "dpi": 96,
  "format": "PNG",
  "compressionQuality": 0,
  "origin": {
   "x": -285401,
   "y": 903402
  },
  "spatialReference": {
   "wkid": 28992,
   "latestWkid": 28992,
   "xyTolerance": 0.001,
   "zTolerance": 0.001,
   "mTolerance": 0.001,
   "falseX": -30515500,
   "falseY": -30279500,
   "xyUnits": 10000,
   "falseZ": -100000,
   "zUnits": 10000,
   "falseM": -100000,
   "mUnits": 10000
  },
  "lods": [
   {
    "level": 0,
    "resolution": 406.40081280162565,
    "scale": 1536000
   },
   {
    "level": 1,
    "resolution": 203.20040640081282,
    "scale": 768000
   },
   {
    "level": 2,
    "resolution": 101.60020320040641,
    "scale": 384000
   },
   {
    "level": 3,
    "resolution": 50.800101600203206,
    "scale": 192000
   },
   {
    "level": 4,
    "resolution": 25.400050800101603,
    "scale": 96000
   },
   {
    "level": 5,
    "resolution": 12.700025400050801,
    "scale": 48000
   }
  ]
 },
 "storageInfo": {
  "storageFormat": "esriMapCacheStorageModeCompactV2",
  "packetSize": 128
 },
 "initialExtent": {
  "xmin": 62454.45237495864,
  "ymin": 356225.98182043916,
  "xmax": 355001.77167672047,
  "ymax": 507388.2950040672,
  "spatialReference": {
   "wkid": 28992,
   "latestWkid": 28992,
   "xyTolerance": 0.001,
   "zTolerance": 0.001,
   "mTolerance": 0.001,
   "falseX": -30515500,
   "falseY": -30279500,
   "xyUnits": 10000,
   "falseZ": -100000,
   "zUnits": 10000,
   "falseM": -100000,
   "mUnits": 10000
  }
 },
 "fullExtent": {
  "xmin": -698982.1633732496,
  "ymin": 252757.15282930405,
  "xmax": 979984.5669216381,
  "ymax": 988203.3151367544,
  "spatialReference": {
   "wkid": 28992,
   "latestWkid": 28992,
   "xyTolerance": 0.001,
   "zTolerance": 0.001,
   "mTolerance": 0.001,
   "falseX": -30515500,
   "falseY": -30279500,
   "xyUnits": 10000,
   "falseZ": -100000,
   "zUnits": 10000,
   "falseM": -100000,
   "mUnits": 10000
  }
 },
 "datesInUnknownTimezone": false,
 "minScale": 1536000,
 "maxScale": 48000,
 "minLOD": 0,
 "maxLOD": 5,
 "units": "esriMeters",
 "supportedImageFormatTypes": "PNG32,PNG24,PNG,JPG,DIB,TIFF,EMF,PS,PDF,GIF,SVG,SVGZ,BMP",
 "documentInfo": {
  "Title": "Untitled.aprx",
  "Author": "",
  "Comments": "",
  "Subject": "",
  "Category": "",
  "Version": "3.2.0",
  "AntialiasingMode": "None",
  "TextAntialiasingMode": "Force",
  "Keywords": "BRO"
 },
 "supportsQueryDomains": true,
 "capabilities": "Map,Query,Data,TileMap",
 "supportedQueryFormats": "JSON, geoJSON, PBF",
 "exportTilesAllowed": false,
 "referenceScale": 0.0,
 "datumTransformations": [
  {
   "geoTransforms": [
    {
     "wkid": 1149,
     "latestWkid": 1149,
     "transformForward": false,
     "name": "ETRS_1989_To_WGS_1984"
    }
   ]
  },
  {
   "geoTransforms": [
    {
     "wkid": 1149,
     "latestWkid": 1149,
     "transformForward": true,
     "name": "ETRS_1989_To_WGS_1984"
    }
   ]
  },
  {
   "geoTransforms": [
    {
     "wkid": 1149,
     "latestWkid": 1149,
     "transformForward": false,
     "name": "ETRS_1989_To_WGS_1984"
    }
   ]
  },
  {
   "geoTransforms": [
    {
     "wkid": 1149,
     "latestWkid": 1149,
     "transformForward": true,
     "name": "ETRS_1989_To_WGS_1984"
    }
   ]
  },
  {
   "geoTransforms": [
    {
     "wkid": 108041,
     "latestWkid": 7000,
     "transformForward": false,
     "name": "Amersfoort_To_ETRS_1989_NTv2"
    }
   ]
  },
  {
   "geoTransforms": [
    {
     "wkid": 108041,
     "latestWkid": 7000,
     "transformForward": true,
     "name": "Amersfoort_To_ETRS_1989_NTv2"
    }
   ]
  },
  {
   "geoTransforms": [
    {
     "wkid": 108041,
     "latestWkid": 7000,
     "transformForward": false,
     "name": "Amersfoort_To_ETRS_1989_NTv2"
    }
   ]
  },
  {
   "geoTransforms": [
    {
     "wkid": 108041,
     "latestWkid": 7000,
     "transformForward": true,
     "name": "Amersfoort_To_ETRS_1989_NTv2"
    }
   ]
  },
  {
   "geoTransforms": [
    {
     "wkid": 108041,
     "latestWkid": 7000,
     "transformForward": false,
     "name": "Amersfoort_To_ETRS_1989_NTv2"
    }
   ]
  },
  {
   "geoTransforms": [
    {
     "wkid": 108041,
     "latestWkid": 7000,
     "transformForward": true,
     "name": "Amersfoort_To_ETRS_1989_NTv2"
    }
   ]
  },
  {
   "geoTransforms": [
    {
     "wkid": 108042,
     "latestWkid": 108042,
     "transformForward": false,
     "name": "Amersfoort_To_WGS_1984_NTv2"
    }
   ]
  },
  {
   "geoTransforms": [
    {
     "wkid": 108042,
     "latestWkid": 108042,
     "transformForward": true,
     "name": "Amersfoort_To_WGS_1984_NTv2"
    }
   ]
  }
 ],
 "supportsDatumTransformation": true,
 "archivingInfo": {
  "supportsHistoricMoment": false
 },
 "supportsClipping": true,
 "supportsSpatialFilter": true,
 "supportsTimeRelation": true,
 "supportsQueryDataElements": true,
 "mapUnits": {
  "uwkid": 9001
 },
 "maxSelectionCount": 2000,
 "maxRecordCount": 2000,
 "maxImageHeight": 4096,
 "maxImageWidth": 4096,
 "supportedExtensions": "",
 "resampling": false
}
